BEGIN:VCALENDAR
VERSION:2.0
PRODID:-//eventon.com NONSGML v1.0//EN
CALSCALE:GREGORIAN
METHOD:PUBLISH
BEGIN:VEVENT
UID:69e4ee558a0cd
DTSTAMP:20260419T150141Z
DTSTART:20250213T130000Z
DTEND:20250213T170000Z
LOCATION:
SUMMARY:Resilienz-Workshop für pflegende Angehörige
DESCRIPTION:Die Pflegeberatung des Rheinisch-Bergischen Kreises bietet pfle
 genden Angehörigen am 6. Februar von 10 bis 14 Uhr und am 13. Februar von 
 14 bis 18 Uhr die Möglichkeit\,  ihre persönliche Resilienz zu stärken\,
   Überlastung entgegenzuwirken und etwas für die eigene Gesundheit zu tun
 .  In zwei Workshops stehen pflegende Angehörige im Mittelpunkt.[..]\nhtt
 ps://in-gl.de/events/resilienz-workshop-fuer-pflegende-angehoerige-2/
URL:https://in-gl.de/events/resilienz-workshop-fuer-pflegende-angehoerige-2/
END:VEVENT
END:VCALENDAR