BEGIN:VCALENDAR
VERSION:2.0
PRODID:-//eventon.com NONSGML v1.0//EN
CALSCALE:GREGORIAN
METHOD:PUBLISH
BEGIN:VEVENT
UID:69e60e9ec0402
DTSTAMP:20260420T113142Z
DTSTART:20250215T180000Z
DTEND:20250215T235000Z
LOCATION:
SUMMARY:Konzert: Youngsters und Max-Bruch-Blasorchester
DESCRIPTION:Zwei Bläserensembles der Städtischen Max-Bruch-Musikschule er
 öffnen quasi mit Fanfaren die Reihe der Orchesterkonzerte im Jahr 2025. Su
 sanne Barr\,  Fachbereichsleiterin für die Holzblasinstrumente\,  unterric
 htet dienstags das Ensemble „Youngsters“\,  in dem sich ein gutes Dutze
 nd der „ganz Jungen“ einmal wöchentlich mit Blasmusik befasst. Das Mit
 telstufenorchester Max-Bruch-Blasorchester wird geleitet von der Fachbereic
 hsleiterin für[..]\nhttps://in-gl.de/events/konzert-youngsters-und-max-bru
 ch-blasorchester/
URL:https://in-gl.de/events/konzert-youngsters-und-max-bruch-blasorchester/
END:VEVENT
END:VCALENDAR