BEGIN:VCALENDAR
VERSION:2.0
PRODID:-//eventon.com NONSGML v1.0//EN
CALSCALE:GREGORIAN
METHOD:PUBLISH
BEGIN:VEVENT
UID:69e4fbdb50f38
DTSTAMP:20260419T155923Z
DTSTART:20250309T180000Z
DTEND:20250309T235000Z
LOCATION:
SUMMARY:Musikalische Vesper
DESCRIPTION:Pfarrer Robert Dwornicki liest Texte von Sören Kierkegaard.Ein
 lass ab 17:30h.Eintritt frei\,  Spenden erbetem.\nhttps://in-gl.de/events/m
 usikalische-vesper-4/
URL:https://in-gl.de/events/musikalische-vesper-4/
END:VEVENT
END:VCALENDAR