BEGIN:VCALENDAR
VERSION:2.0
PRODID:-//eventon.com NONSGML v1.0//EN
CALSCALE:GREGORIAN
METHOD:PUBLISH
BEGIN:VEVENT
UID:69ea2f30f247a
DTSTAMP:20260423T143944Z
DTSTART:20250406T113000Z
DTEND:20250406T123000Z
LOCATION:
SUMMARY:Dialog mit dem Original
DESCRIPTION:Im Mittelpunkt steht die gemeinsame Betrachtung eines ausgewäh
 lten Kunstwerkes derAusstellung Ruth Marten: All About Eve Moderation: Geor
 g DittrichDie Teilnahmegebühr ist im Museumseintritt enthalten.\nhttps://i
 n-gl.de/events/dialog-mit-dem-original-14/
URL:https://in-gl.de/events/dialog-mit-dem-original-14/
END:VEVENT
END:VCALENDAR