BEGIN:VCALENDAR
VERSION:2.0
PRODID:-//eventon.com NONSGML v1.0//EN
CALSCALE:GREGORIAN
METHOD:PUBLISH
BEGIN:VEVENT
UID:69e60e7bc1555
DTSTAMP:20260420T113107Z
DTSTART:20250416T110000Z
DTEND:20250416T130000Z
LOCATION:
SUMMARY:Ferienaktion: Druckwerkstatt
DESCRIPTION:Mittwoch\,  16.4.\,  11:00-13:00 Uhr und 14:00-16:00 Uhr Ihr sa
 mmelt erste Erfahrungen mit dem Hoch- und Tiefdruck. Wir drucken mit Geträ
 nkekartons\,  Legosteinen und der Sonne. Jedes Kind druckt eigene selbstges
 taltete Bilder. Kosten: 5 € pro Kind Alter: 8-12 Jahre Anmeldung erforder
 lich im LVR-Ticketshop - www.shop.industriemuseum.lvr.de oder bei kulturi
 nfo Rheinland 02234 – 9921 555\nhttps://in-gl.de/events/ferienaktion-druc
 kwerkstatt/
URL:https://in-gl.de/events/ferienaktion-druckwerkstatt/
END:VEVENT
END:VCALENDAR