BEGIN:VCALENDAR
VERSION:2.0
PRODID:-//eventon.com NONSGML v1.0//EN
CALSCALE:GREGORIAN
METHOD:PUBLISH
BEGIN:VEVENT
UID:69e4f1ba4d7b9
DTSTAMP:20260419T151610Z
DTSTART:20250404T000000Z
DTEND:20250404T235000Z
LOCATION:
SUMMARY:Eintrittsfreier Museums-Tag für Alle!
DESCRIPTION:Jeden ersten Freitag im Monat gibt es einen besonderen Tag im M
 useum – der Eintritt ist frei. Die Dauerausstellung lädt dazu ein\,  die
  Geschichte und Herstellung des Papiers zu entdecken. Dabei können Besuche
 nde auch selbst Papier schöpfen\,  die große Papiermaschine PM4 erkunden 
 und den Betrieb einer Laborpapiermaschine in einer Vorführung[..]\nhttps:/
 /in-gl.de/events/eintrittsfreier-museums-tag-fuer-alle-3/
URL:https://in-gl.de/events/eintrittsfreier-museums-tag-fuer-alle-3/
END:VEVENT
END:VCALENDAR