BEGIN:VCALENDAR
VERSION:2.0
PRODID:-//eventon.com NONSGML v1.0//EN
CALSCALE:GREGORIAN
METHOD:PUBLISH
BEGIN:VEVENT
UID:69e8b60a56563
DTSTAMP:20260422T115034Z
DTSTART:20250415T151500Z
DTEND:20250415T235000Z
LOCATION:
SUMMARY:Theater „Golden Girlies“
DESCRIPTION:Theater Süßholz unter der Leitung von Ursula Bartels präsent
 iert: Man müsste nochmal 20 sein…von wegen! Wo steht geschrieben\,  dass
  man im Alter ein Leben als Kostverächter führen muss? Bärbel\,  Hilde u
 nd Gerda jedenfalls laufen auch jenseits der 70 noch auf Hochtouren! Nicht 
 nur\,  dass sie ihr Seniorenheim kräftig aufmischen und[..]\nhttps://in-gl
 .de/events/theater-golden-girlies/
URL:https://in-gl.de/events/theater-golden-girlies/
END:VEVENT
END:VCALENDAR