BEGIN:VCALENDAR
VERSION:2.0
PRODID:-//eventon.com NONSGML v1.0//EN
CALSCALE:GREGORIAN
METHOD:PUBLISH
BEGIN:VEVENT
UID:69e7870bb52ef
DTSTAMP:20260421T141747Z
DTSTART:20250524T100000Z
DTEND:20250524T134500Z
LOCATION:
SUMMARY:Workshop: Mikro-Makramee Armbänder
DESCRIPTION:In diesem Mikro-Makramee-Kurs mit Anna Mrziglod arbeiten wir mi
 t besonders dünnem Garn und lernen zusammen Knoten der Makramee-Knüpftech
 nik\,  um direkt ein kleines\,  selbstgemachtes Projekt anzugehen. In diese
 m Kurs werden verschiedene Armbänder nach dem persönlichen Geschmack erst
 ellt. Es stehen unterschiedliche Garne und Farben zu Verfügung.Der Kurs is
 t für Anfänger/innen und Fortgeschrittene[..]\nhttps://in-gl.de/events/wo
 rkshop-mikro-makramee-armbaender/
URL:https://in-gl.de/events/workshop-mikro-makramee-armbaender/
END:VEVENT
END:VCALENDAR