BEGIN:VCALENDAR
VERSION:2.0
PRODID:-//eventon.com NONSGML v1.0//EN
CALSCALE:GREGORIAN
METHOD:PUBLISH
BEGIN:VEVENT
UID:69e75181c0f79
DTSTAMP:20260421T102921Z
DTSTART:20250515T183000Z
DTEND:20250515T200000Z
LOCATION:
SUMMARY:Ladies' Night
DESCRIPTION:Führung durch die Ausstellung Paper / Elements. Kunst aus Papi
 er und die vier Elemente für kunstinteressierte Frauen mit anschließendem
  Drink in entspannter Atmosphäre.Für Teilnehmerinnen jeden Alters.Teilnah
 megebühr 8 Euro.Anmeldung: digitales Anmeldetool oder unter 02202-14 2334\
 nhttps://in-gl.de/events/ladies-night-10/
URL:https://in-gl.de/events/ladies-night-10/
END:VEVENT
END:VCALENDAR