BEGIN:VCALENDAR
VERSION:2.0
PRODID:-//eventon.com NONSGML v1.0//EN
CALSCALE:GREGORIAN
METHOD:PUBLISH
BEGIN:VEVENT
UID:69e7502074310
DTSTAMP:20260421T102328Z
DTSTART:20250518T110000Z
DTEND:20250518T180000Z
LOCATION:
SUMMARY:Internationaler Museumstag
DESCRIPTION:„Museen mit Freude entdecken“ unter diesem Motto begehen di
 e Museen in ganz Deutschland zum 48. Mal den internationalen Museumstag und
  bieten ein vielfältiges Programm. Die Museen laden zu besonderen Aktionen
 \,  exklusiven Einblicken und zum Entdecken ein. Als Besuchende sind Sie he
 rzlich eingeladen\,  die in den Museen bewahrten Schätze zu entdecken[..]\
 nhttps://in-gl.de/events/internationaler-museumstag-7/
URL:https://in-gl.de/events/internationaler-museumstag-7/
END:VEVENT
END:VCALENDAR