BEGIN:VCALENDAR
VERSION:2.0
PRODID:-//eventon.com NONSGML v1.0//EN
CALSCALE:GREGORIAN
METHOD:PUBLISH
BEGIN:VEVENT
UID:69e8e304d3b1d
DTSTAMP:20260422T150228Z
DTSTART:20250704T193000Z
DTEND:20250704T235000Z
LOCATION:
SUMMARY:Spanische Gitarrenklänge
DESCRIPTION:Manuel Sanchez spielt Stücke von Albéniz\,  Paco de Lucia\,  
 Gipsy Kings\,  Al di Meola\,  etwas aus dem Nussknacker von Tschaikovsky un
 d anderen.Bereits in den beiden letzten Jahren begeisterte Manuel Sanchez s
 eine Gäste im vollbesetzten H&Ä-Café.Eintritt frei – der Hut für den 
 Musiker geht rum / Ort: H&Ä-Café\nhttps://in-gl.de/events/spanische-gitar
 renklaenge/
URL:https://in-gl.de/events/spanische-gitarrenklaenge/
END:VEVENT
END:VCALENDAR