BEGIN:VCALENDAR
VERSION:2.0
PRODID:-//eventon.com NONSGML v1.0//EN
CALSCALE:GREGORIAN
METHOD:PUBLISH
BEGIN:VEVENT
UID:69e60e94df7c7
DTSTAMP:20260420T113132Z
DTSTART:20250703T140000Z
DTEND:20250703T200000Z
LOCATION:
SUMMARY:Freier Museumseintritt
DESCRIPTION:Jeden ersten Donnerstag im Monat lädt das Kunstmuseum Villa Za
 nders Besucherinnen und Besucher aus Bergisch Gladbach ein\,  Kunst hautnah
  zu erleben. Eine wunderbare Gelegenheit\,  in inspirierende Ausstellungen 
 einzutauchen und die besondere Atmosphäre des Hauses zu genießen. Jeden e
 rsten Donnerstag im Monat Kostenlos für Besucher und Besucherinnen mit Woh
 nsitz in Bergisch[..]\nhttps://in-gl.de/events/freier-museumseintritt-8/
URL:https://in-gl.de/events/freier-museumseintritt-8/
END:VEVENT
END:VCALENDAR