BEGIN:VCALENDAR
VERSION:2.0
PRODID:-//eventon.com NONSGML v1.0//EN
CALSCALE:GREGORIAN
METHOD:PUBLISH
BEGIN:VEVENT
UID:69e7ca9099310
DTSTAMP:20260421T190552Z
DTSTART:20250724T183000Z
DTEND:20250724T200000Z
LOCATION:
SUMMARY:Ladies' Night
DESCRIPTION:FÃ¼hrung durch die Ausstellung Ausstellung Kunst ohne Grund. HÃ
 ¤ngende Skulpturen und Installationen fÃ¼r kunstinteressierte Frauen mit an
 schlieÃŸendem Drink in entspannter AtmosphÃ¤re.FÃ¼r Teilnehmerinnen jeden A
 lters.TeilnahmegebÃ¼hr 8 Euro.Anmeldung: digitales Anmeldetool oder unter 0
 2202-14 2334\nhttps://in-gl.de/events/ladies-night-11/
URL:https://in-gl.de/events/ladies-night-11/
END:VEVENT
END:VCALENDAR