BEGIN:VCALENDAR
VERSION:2.0
PRODID:-//eventon.com NONSGML v1.0//EN
CALSCALE:GREGORIAN
METHOD:PUBLISH
BEGIN:VEVENT
UID:69e78706c6d3e
DTSTAMP:20260421T141742Z
DTSTART:20250711T140000Z
DTEND:20250711T170000Z
LOCATION:
SUMMARY:Gaming Angebot "FreiSpiel"
DESCRIPTION:Ein offenes Angebot für Familien mit Kindern ab 6 Jahren: Bei 
 unseren Freispiel-Nachmittagen können Kinder gemeinsam mit Eltern oder Ges
 chwistern verschiedene Konsolenspiele ausprobieren.Eine Ansprechpartnerin i
 st immer vor Ort\,  stellt jeweils ein Spiel vor und beantwortet gerne Frag
 en rund ums Thema Gaming.Die Spiele sind kindgerecht und haben eine Altersf
 reigabe ab 0[..]\nhttps://in-gl.de/events/gaming-angebot-freispiel/
URL:https://in-gl.de/events/gaming-angebot-freispiel/
END:VEVENT
END:VCALENDAR