BEGIN:VCALENDAR
VERSION:2.0
PRODID:-//eventon.com NONSGML v1.0//EN
CALSCALE:GREGORIAN
METHOD:PUBLISH
BEGIN:VEVENT
UID:69ea45d45fa6e
DTSTAMP:20260423T161620Z
DTSTART:20250703T160000Z
DTEND:20250703T091700Z
LOCATION:
SUMMARY: „Neue Wege der Quartiersarbeit“ in Gronau 
DESCRIPTION:Unter dem Titel „Neue Wege der Quartiersarbeit“ laden die G
 ründerinnen des neuen Quartiersangebots „SSP Schere.Stein.Papierflieger 
 gGmbH“\,  Sarah Schwope und Lidia Neudorf\,  und Bürgermeisterkandidat M
 arcel Kreutz engagierte Bürgerinnen und Bürger sowie Fachleute herzlich z
 u einem offenen Netzwerk-Forum ein.  Ziel der Veranstaltung ist es\,  geme
 insam über neue Formen der Quartiersarbeit zu diskutieren\, [..]\nhttps://
 in-gl.de/events/neue-wege-der-quartiersarbeit-in-gronau/
URL:https://in-gl.de/events/neue-wege-der-quartiersarbeit-in-gronau/
END:VEVENT
END:VCALENDAR