BEGIN:VCALENDAR
VERSION:2.0
PRODID:-//eventon.com NONSGML v1.0//EN
CALSCALE:GREGORIAN
METHOD:PUBLISH
BEGIN:VEVENT
UID:69ebb60c8b766
DTSTAMP:20260424T182724Z
DTSTART:20250901T173000Z
DTEND:20250901T190000Z
LOCATION:
SUMMARY:Offenes Singen
DESCRIPTION:Weitere Termine: 6. Oktober und 3. NovemberMusikbegeisterte Lai
 ensänger sind herzlich eingeladen\,  Schlager\,  Oldies\,  Volkslieder\,  
 Evergreens sowie bunte Potpourris bekannter Melodien mit uns zu singen. Sch
 nuppern Sie einmal hinein! Die Sängerinnen und Sänger freuen sich auf Sie
 ! Noten/Texte hierzu werden ausgeliehen. Der Eintritt ist frei. Spenden sin
 d willkommen!Kontakt: www.harmonie-bensberg-kaule.de\nhttps://in-gl.de/even
 ts/offenes-singen-18/
URL:https://in-gl.de/events/offenes-singen-18/
END:VEVENT
END:VCALENDAR