BEGIN:VCALENDAR
VERSION:2.0
PRODID:-//eventon.com NONSGML v1.0//EN
CALSCALE:GREGORIAN
METHOD:PUBLISH
BEGIN:VEVENT
UID:69ed07c56963a
DTSTAMP:20260425T182821Z
DTSTART:20250830T180000Z
DTEND:20250831T210000Z
LOCATION:
SUMMARY:Dorffest Rommerscheid
DESCRIPTION:Das jährliche Dorffest findet in Rommerscheid rund um die Kirc
 he St. Engelbert statt. Ob Live Musik\,  Männergesangsverein\,  ChoryFeen\
 ,  Hüpfburg oder Karussell. Für jung und alt ist alles dabei. Und für da
 s leibliche Wohl ist an beiden Tagen gesorgt.&nbsp; Der Bürgerverein Romme
 rscheid freut sich auf seine Gäste.\nhttps://in-gl.de/events/dorffest-romm
 erscheid/
URL:https://in-gl.de/events/dorffest-rommerscheid/
END:VEVENT
END:VCALENDAR