BEGIN:VCALENDAR
VERSION:2.0
PRODID:-//eventon.com NONSGML v1.0//EN
CALSCALE:GREGORIAN
METHOD:PUBLISH
BEGIN:VEVENT
UID:69ebb9d2e1bc8
DTSTAMP:20260424T184330Z
DTSTART:20251006T120000Z
DTEND:20251006T235000Z
LOCATION:
SUMMARY:Generalprobe der neuen Tanz- und Musikperformance von Britta Lieberknecht
DESCRIPTION:Die Tanz- und Musikperformance „Grenzen verschieben“ im Aus
 stellungsprojekt desKreishauses Bergisch Gladbach zum 50. Jahrestag der Geb
 ietsreform Nordrhein-Westfalens lädt zur öffentlichen Generalprobe ein.Am
  Montag 6. Oktober um 12 Uhr findet die Generalprobe der neuen Tanz- undMus
 ikperformance von Britta Lieberknecht statt. Am darauffolgenden Dienstag 7.
  Oktoberwird die Premiere im Ausstellungsprojekt „Kreise öffnen“[..]\n
 https://in-gl.de/events/generalprobe-der-neuen-tanz-und-musikperformance-vo
 n-britta-lieberknecht/
URL:https://in-gl.de/events/generalprobe-der-neuen-tanz-und-musikperformance-von-britta-lieberknecht/
END:VEVENT
END:VCALENDAR