BEGIN:VCALENDAR
VERSION:2.0
PRODID:-//eventon.com NONSGML v1.0//EN
CALSCALE:GREGORIAN
METHOD:PUBLISH
BEGIN:VEVENT
UID:69e51c6404779
DTSTAMP:20260419T181812Z
DTSTART:20251011T140000Z
DTEND:20251011T170000Z
LOCATION:
SUMMARY:Kürbisschnitzen für Kinder 
DESCRIPTION:Am 11. Oktober 2025 lädt das Gartencenter Selbach alle Kinder 
 ab 6 Jahren herzlich zum Kürbisschnitzen ein. Im Zeitraum von 14:00 bis 17
 :00 Uhr können kleine Künstlerinnen und Künstler bei uns im Gartencenter
  Halloween-Kürbisse gestalten.  An unserem Kürbis-Basteltisch stehen kos
 tenlos Kürbisse und Schnitzwerkzeug zur Verfügung. Unsere Mitarbeiterin b
 egleitet die Kinder[..]\nhttps://in-gl.de/events/kuerbisschnitzen-fuer-kind
 er/
URL:https://in-gl.de/events/kuerbisschnitzen-fuer-kinder/
END:VEVENT
END:VCALENDAR