BEGIN:VCALENDAR
VERSION:2.0
PRODID:-//eventon.com NONSGML v1.0//EN
CALSCALE:GREGORIAN
METHOD:PUBLISH
BEGIN:VEVENT
UID:69e51f161b597
DTSTAMP:20260419T182942Z
DTSTART:20251002T150000Z
DTEND:20251002T235000Z
LOCATION:
SUMMARY:Vortrag: Eisgeschichten rund um Pückler
DESCRIPTION:Vortrag mit Annette VoigtWir allen kennen das Pückler Eis\,  d
 as Eis in drei Farbschichten zwischen zwei Waffeln. Doch wer hat es erfunde
 n? Um das Pückler-Eis ranken sich viele Legenden\,  die Ihnen Annette Voig
 t an diesem Nachmittag vorstellt.Anmeldung unter 02202-56011www.heilig-geis
 t-kirche.de/einrichtungen/ev-begegnungsstatte/\nhttps://in-gl.de/events/vor
 trag-eisgeschichten-rund-um-pueckler/
URL:https://in-gl.de/events/vortrag-eisgeschichten-rund-um-pueckler/
END:VEVENT
END:VCALENDAR