BEGIN:VCALENDAR
VERSION:2.0
PRODID:-//eventon.com NONSGML v1.0//EN
CALSCALE:GREGORIAN
METHOD:PUBLISH
BEGIN:VEVENT
UID:69e4da4d16a05
DTSTAMP:20260419T133613Z
DTSTART:20251003T100000Z
DTEND:20251003T170000Z
LOCATION:
SUMMARY:Eintrittsfreier Museums-Tag für Alle!
DESCRIPTION:Jeden ersten Freitag im Monat gibt es einen besonderen Tag im M
 useum – der Eintritt ist frei. Die Dauerausstellung lädt dazu ein\,  die
  Geschichte und Herstellung des Papiers zu entdecken. Dabei können Besuche
 nde auch selbst Papier schöpfen\,  die große Papiermaschine PM4 erkunden 
 und den Betrieb einer Laborpapiermaschine in einer Vorführung[..]\nhttps:/
 /in-gl.de/events/eintrittsfreier-museums-tag-fuer-alle-6/
URL:https://in-gl.de/events/eintrittsfreier-museums-tag-fuer-alle-6/
END:VEVENT
END:VCALENDAR