BEGIN:VCALENDAR
VERSION:2.0
PRODID:-//eventon.com NONSGML v1.0//EN
CALSCALE:GREGORIAN
METHOD:PUBLISH
BEGIN:VEVENT
UID:69e7b520ae5c4
DTSTAMP:20260421T173424Z
DTSTART:20251005T140000Z
DTEND:20251005T235000Z
LOCATION:
SUMMARY:Kinderführung „Kindheit in der Alten Dombach um 1850“
DESCRIPTION:Die Führung erzählt aus dem Leben von Johann und Gertrud Berg
 \,  die in der Alten Dombach wohnten und arbeiteten. Kosten: Erwachsene 5\,
  50 €\,  ermäßigt 4\, 00 €\,  Kinder und Jugendliche 2 €\,  inkl. M
 useumseintritt.Anmeldung erwünscht im LVR-Ticketshop - www.shop.industriem
 useum.lvr.de oder bei bei kulturinfo rheinland 0 22 34   99 21 55 5[..]\n
 https://in-gl.de/events/kinderfuehrung-kindheit-in-der-alten-dombach-um-185
 0-16/
URL:https://in-gl.de/events/kinderfuehrung-kindheit-in-der-alten-dombach-um-1850-16/
END:VEVENT
END:VCALENDAR