BEGIN:VCALENDAR
VERSION:2.0
PRODID:-//eventon.com NONSGML v1.0//EN
CALSCALE:GREGORIAN
METHOD:PUBLISH
BEGIN:VEVENT
UID:69e54f90e2553
DTSTAMP:20260419T215632Z
DTSTART:20251012T140000Z
DTEND:20251012T235000Z
LOCATION:
SUMMARY:Führung durch die Ausstellung Must-have
DESCRIPTION:Tabakpfeife\,  Schallplatte oder Smartphone – Konsumartikel\,
   die alle kennen\,  alle haben\,  alle brauchen? Zu verschiedenen Zeiten g
 alten ganz unterschiedliche Dinge als „Must-have“. Die Ausstellung verf
 olgt die Entwicklung des Konsums der letzten 200 Jahre bis in die Gegenwart
  und regt zur Auseinandersetzung mit unserem eigenen Konsumverhalten an. Ko
 sten: Erwachsene 5\, 50 €\, [..]\nhttps://in-gl.de/events/fuehrung-durch-
 die-ausstellung-must-have-6/
URL:https://in-gl.de/events/fuehrung-durch-die-ausstellung-must-have-6/
END:VEVENT
END:VCALENDAR