BEGIN:VCALENDAR
VERSION:2.0
PRODID:-//eventon.com NONSGML v1.0//EN
CALSCALE:GREGORIAN
METHOD:PUBLISH
BEGIN:VEVENT
UID:69e7ca95a4f2d
DTSTAMP:20260421T190557Z
DTSTART:20251005T140000Z
DTEND:20251005T160000Z
LOCATION:
SUMMARY:Handwerker-Vorführungen: Spinnen und Drechseln
DESCRIPTION:Sonntagnachmittags lasssen unsere ehrenamtlichen HandwerkerInne
 n historische Techniken aufleben. Schauen Sie ihm über die Schulter. Spinn
 en mit Karin Dünner/Janina Endresz. Drechslerhandwerk mit Dietmar Schur - 
 Dietmar Schur drechselt diesen Sonntag zum zweiten Mal im Bergischen Museum
 . Er wird mit seiner Drechselmaschine in der Stellmacherei zu finden sein. 
 Eintritt: 3\, 00 € /[..]\nhttps://in-gl.de/events/handwerker-vorfuehrunge
 n-spinnen-und-drechseln/
URL:https://in-gl.de/events/handwerker-vorfuehrungen-spinnen-und-drechseln/
END:VEVENT
END:VCALENDAR