BEGIN:VCALENDAR
VERSION:2.0
PRODID:-//eventon.com NONSGML v1.0//EN
CALSCALE:GREGORIAN
METHOD:PUBLISH
BEGIN:VEVENT
UID:69e4e804d6835
DTSTAMP:20260419T143444Z
DTSTART:20251005T140000Z
DTEND:20251005T170000Z
LOCATION:
SUMMARY:Familiensonntag im Schulmuseum
DESCRIPTION:Am Familiensonntag im Schulmuseum Bergisch Gladbach erwartet Be
 sucher ein spannender Ausflug in die Geschichte des Schulwesens. Um 14.30 U
 hr wird die beliebte Unterrichtsstunde „Wie zu Kaisers Zeiten“ angebote
 n und lässt die Besucher in die Schulzeit des Kaiserreichs eintauchen\,  m
 it originalen Ritualen wie geradem Sitzen\,  Beten und Kopfrechnen – das 
 alles[..]\nhttps://in-gl.de/events/familiensonntag-im-schulmuseum-7/
URL:https://in-gl.de/events/familiensonntag-im-schulmuseum-7/
END:VEVENT
END:VCALENDAR