BEGIN:VCALENDAR
VERSION:2.0
PRODID:-//eventon.com NONSGML v1.0//EN
CALSCALE:GREGORIAN
METHOD:PUBLISH
BEGIN:VEVENT
UID:69eb42e7c11b7
DTSTAMP:20260424T101607Z
DTSTART:20251204T100000Z
DTEND:20251204T124000Z
LOCATION:
SUMMARY:Führungen zu Ehren der heiligen Barbara\,  Schutzpatronin der Bergleute
DESCRIPTION:Führungen um 10 Uhr / 11 Uhr / 12 Uhr. Eintritt inklusive Füh
 rung: 3 Euro / 1\, 5 Euro (ermäßigt). Für Kinder im Vorschulalter frei. 
 Das Bergische Museum feiert am 04.12.2025 die Schutzpatronin der Bergleute.
  In drei kostenfreien Führungen durch den Besucherstollen erklärt Jürgen
  Koch Details der Arbeit unter Tage\,  berichtet[..]\nhttps://in-gl.de/even
 ts/fuehrungen-zu-ehren-der-heiligen-barbara-schutzpatronin-der-bergleute/
URL:https://in-gl.de/events/fuehrungen-zu-ehren-der-heiligen-barbara-schutzpatronin-der-bergleute/
END:VEVENT
END:VCALENDAR