BEGIN:VCALENDAR
VERSION:2.0
PRODID:-//eventon.com NONSGML v1.0//EN
CALSCALE:GREGORIAN
METHOD:PUBLISH
BEGIN:VEVENT
UID:69eba6175e09d
DTSTAMP:20260424T171919Z
DTSTART:20260127T114500Z
DTEND:20260127T123000Z
LOCATION:
SUMMARY:Handyberatung für Seniorinnen und Senioren
DESCRIPTION:Weitere Termine:Dienstag\,  24. Februar 2026Dienstag\,  24. M
 ärz 2026Dienstag\,  28. April 2026Dienstag\,  19. Mai 2026Dienstag\,  30
 . Juni 2026Die Medienscouts der Integrierten Gesamtschule Paffrath (IGP) bi
 eten in der Stadtteilbücherei Paffrath regelmäßig eine Handyberatung fü
 r Seniorinnen und Senioren an. In einer offenen Fragestunde können Seniori
 nnen und Senioren ihre individuellen Probleme mit dem Handy ansprechen. Ega
 l\,  ob es[..]\nhttps://in-gl.de/events/handyberatung-fuer-seniorinnen-und-
 senioren-2/
URL:https://in-gl.de/events/handyberatung-fuer-seniorinnen-und-senioren-2/
END:VEVENT
END:VCALENDAR