BEGIN:VCALENDAR
VERSION:2.0
PRODID:-//eventon.com NONSGML v1.0//EN
CALSCALE:GREGORIAN
METHOD:PUBLISH
BEGIN:VEVENT
UID:69e4f1ab4925a
DTSTAMP:20260419T151555Z
DTSTART:20260321T180000Z
DTEND:20260321T220000Z
LOCATION:
SUMMARY:Gamesnight für Jugendliche ab 12 Jahren
DESCRIPTION:Bei der Gamesnight verwandelt sich das gesamte Gemeindezentrum 
 in eine große Gaming-Lounge. An zwölf Stationen können die Jugendlichen 
 unterschiedliche Konsolen und Spiele ausprobieren – von Klassikern wie M
 ario Kart bis hin zu FIFA. Es gibt außerdem spannende Turniere mit klein
 en Preisen\,  kostenlose Snacks und jede Menge Gelegenheit\,  neue Leute ke
 nnenzulernen. Natürlich ist auch[..]\nhttps://in-gl.de/events/gamesnight-f
 uer-jugendliche-ab-12-jahren/
URL:https://in-gl.de/events/gamesnight-fuer-jugendliche-ab-12-jahren/
END:VEVENT
END:VCALENDAR