BEGIN:VCALENDAR
VERSION:2.0
PRODID:-//eventon.com NONSGML v1.0//EN
CALSCALE:GREGORIAN
METHOD:PUBLISH
BEGIN:VEVENT
UID:69e4f1b53410b
DTSTAMP:20260419T151605Z
DTSTART:20260322T150000Z
DTEND:20260322T160000Z
LOCATION:
SUMMARY:Zwischen den Werken
DESCRIPTION:Führung mit Veronika Moos durch die Ausstellung Veronika Moos:
  nicht mehr und dannTeilnahmegebühr: 3 € zzgl. Eintritt\nhttps://in-gl.d
 e/events/zwischen-den-werken/
URL:https://in-gl.de/events/zwischen-den-werken/
END:VEVENT
END:VCALENDAR