BEGIN:VCALENDAR
VERSION:2.0
PRODID:-//eventon.com NONSGML v1.0//EN
CALSCALE:GREGORIAN
METHOD:PUBLISH
BEGIN:VEVENT
UID:69e4c9213cd94
DTSTAMP:20260419T122257Z
DTSTART:20260320T200000Z
DTEND:20260320T235000Z
LOCATION:
SUMMARY:Galeriekonzert: Im Spiegel
DESCRIPTION:Takeo Sato hat sein Konzert unkonventionell konzipiert: Im Mitt
 elpunkt steht die „Fantasy for guitar“ des Briten Malcolm Arnold. Diese
 s Werk hat sieben Sätze\,  ist spiegelförmig angelegt und steht im Zentru
 m\,  die anderen Werke ordnet Sato um dieses „Herzstück“ an. Kompositi
 onen von Heitor Villa-Lobos und Leo Brouwer gehören ebenso dazu wie[..]\nh
 ttps://in-gl.de/events/galeriekonzert-im-spiegel/
URL:https://in-gl.de/events/galeriekonzert-im-spiegel/
END:VEVENT
END:VCALENDAR