BEGIN:VCALENDAR
VERSION:2.0
PRODID:-//eventon.com NONSGML v1.0//EN
CALSCALE:GREGORIAN
METHOD:PUBLISH
BEGIN:VEVENT
UID:69e4c91c40dc2
DTSTAMP:20260419T122252Z
DTSTART:20260321T153000Z
DTEND:20260321T170000Z
LOCATION:
SUMMARY:Philosophisches Café: Der gesunde Menschenverstand
DESCRIPTION:Wir alle stützen uns im Alltag auf den gesunden Menschenversta
 nd\,  der uns entscheiden hilft\,  was richtig und was falsch ist. Ist dies
 er vertraute Ratgeber jedoch wirklich neutral und objektiv? Oder wird er du
 rch gesellschaftliche\,  ja politische Faktoren und Kräfte - manchmal ohne
  unser Wissen - mitgeprägt und gelenkt? Unter anderem[..]\nhttps://in-gl.d
 e/events/philosophisches-cafe-der-gesunde-menschenverstand/
URL:https://in-gl.de/events/philosophisches-cafe-der-gesunde-menschenverstand/
END:VEVENT
END:VCALENDAR