BEGIN:VCALENDAR
VERSION:2.0
PRODID:-//eventon.com NONSGML v1.0//EN
CALSCALE:GREGORIAN
METHOD:PUBLISH
BEGIN:VEVENT
UID:69e4f1a64776a
DTSTAMP:20260419T151550Z
DTSTART:20260322T140000Z
DTEND:20260322T150000Z
LOCATION:
SUMMARY:Spezialführung: Die Papiermaschine (PM4)
DESCRIPTION:In dieser Spezialführung kann entdeckt werden\,  wie aus Faser
 n endlose Papierbahnen wurden\,  welche Kraft und Präzision in der Maschin
 e stecken und warum diese beeindruckende Papiermaschine so ein besonderes t
 echnisches Denkmal ist. Ein einzigartiger Blick in die industrielle Papierw
 elt von gestern.Kosten: Erwachsene 5\, 50 €\,  ermäßigt 4\, 00 €\,  K
 inder und Jugendliche 2[..]\nhttps://in-gl.de/events/spezialfuehrung-die-pa
 piermaschine-pm4/
URL:https://in-gl.de/events/spezialfuehrung-die-papiermaschine-pm4/
END:VEVENT
END:VCALENDAR