BEGIN:VCALENDAR
VERSION:2.0
PRODID:-//eventon.com NONSGML v1.0//EN
CALSCALE:GREGORIAN
METHOD:PUBLISH
BEGIN:VEVENT
UID:69ec256da21ac
DTSTAMP:20260425T022237Z
DTSTART:20260329T110000Z
DTEND:20260329T133000Z
LOCATION:
SUMMARY:SpezialfÃ¼hrung mit Workshop: Natursuche â€“ Papier aus Pflanzen
DESCRIPTION:Welche Pflanzen eignen sich eigentlich zur Papierherstellung â€
 “ und warum? In dieser SonderfÃ¼hrung gehen wir auf â€žNatursucheâ€œ und en
 tdecken\,  welche Fasern\,  Strukturen und Eigenschaften in BlÃ¤ttern\,  St
 Ã¤ngeln und GrÃ¤sern stecken. AnschlieÃŸend verwandeln wir ausgewÃ¤hlte Pfl
 anzen im 1\, 5-stÃ¼ndigen Workshop selbst in Papier: vom Aufbereiten der Fa
 sern bis zum SchÃ¶pfen eigener BÃ¶gen.Kosten:[..]\nhttps://in-gl.de/events/
 spezialfuehrung-mit-workshop-natursuche-papier-aus-pflanzen/
URL:https://in-gl.de/events/spezialfuehrung-mit-workshop-natursuche-papier-aus-pflanzen/
END:VEVENT
END:VCALENDAR