BEGIN:VCALENDAR
VERSION:2.0
PRODID:-//eventon.com NONSGML v1.0//EN
CALSCALE:GREGORIAN
METHOD:PUBLISH
BEGIN:VEVENT
UID:69e7dbbe65386
DTSTAMP:20260421T201910Z
DTSTART:20260322T170000Z
DTEND:20260322T235000Z
LOCATION:
SUMMARY:Johannespassion von J.S. Bach
DESCRIPTION:Im Rahmen der Passionszeit führt der Kirchenchor St. Nikolaus\
 ,  Bensberg die Johannespassion von Johann Sebastian Bach auf – eines der
  zentralen Werke geistlicher Musik zwischen theologischer Tiefe und dramati
 scher Zuspitzung.Bachs Vertonung des Johannesevangeliums stellt nicht das b
 loße Leiden\,  sondern die Souveränität Christi in den Mittelpunkt: Die 
 Passion erscheint als bewusster[..]\nhttps://in-gl.de/events/johannespassio
 n-von-j-s-bach/
URL:https://in-gl.de/events/johannespassion-von-j-s-bach/
END:VEVENT
END:VCALENDAR