BEGIN:VCALENDAR
VERSION:2.0
PRODID:-//eventon.com NONSGML v1.0//EN
CALSCALE:GREGORIAN
METHOD:PUBLISH
BEGIN:VEVENT
UID:69e51c0763fd0
DTSTAMP:20260419T181639Z
DTSTART:20260321T140000Z
DTEND:20260321T170000Z
LOCATION:
SUMMARY:Offenes Atelier
DESCRIPTION:Weiterer Termin: 22.3. von 14:00h-17:00hAuch in diesem Jahr öf
 fnen die Künstlerinnen und Künstler des Atelierhauses Grube Weiß in Moit
 zfeld ihre Ateliers und so können Kunstinteressierte am Wochenende den spa
 nnenden Kulturort entdecken und die Bandbreite kreativer Vielfalt und zeitg
 enössischer Kunst erleben: MALEREI\,  OBJEKTE\,  SKULPTUREN\,  FOTOGRAFIE\
 ,  KUNSTBÜCHER\, COLLAGEN\,  DRUCKGRAFIK\,  ZEICHNUNG und TEXTILKUNST.Selb
 stverständlich können[..]\nhttps://in-gl.de/events/offenes-atelier/
URL:https://in-gl.de/events/offenes-atelier/
END:VEVENT
END:VCALENDAR