BEGIN:VCALENDAR
VERSION:2.0
PRODID:-//eventon.com NONSGML v1.0//EN
CALSCALE:GREGORIAN
METHOD:PUBLISH
BEGIN:VEVENT
UID:69e4dde99decd
DTSTAMP:20260419T135137Z
DTSTART:20260321T150000Z
DTEND:20260321T235000Z
LOCATION:
SUMMARY:Wie der kleine Frühling seine Flöte verlor
DESCRIPTION:Frühlingsstimmung überall\,  auch im Bensberger Puppentheater
  (Kaule\,  Gelände Johannes-Gutenberg-Realschule): Am Samstag\,  den 21.03
 .2026\,  um 15 Uhr\, am Samstag\,  den 28.03.2026\,  um 15 Uhram Samstag\, 
  den 04.04.2026\,  um 15 Uhrund am Ostermontag\,  den 06.04.2026\,  um 17 U
 hr zeigt der&nbsp;Puppenpavillon das Familienstück&nbsp;"Wie der kleine&nb
 sp;Frühling seine Flöte verlor"\, &nbsp;geeignet für Kinder ab drei Jahr
 e. Darin[..]\nhttps://in-gl.de/events/wie-der-kleine-fruehling-seine-floete
 -verlor/
URL:https://in-gl.de/events/wie-der-kleine-fruehling-seine-floete-verlor/
END:VEVENT
END:VCALENDAR