BEGIN:VCALENDAR
VERSION:2.0
PRODID:-//eventon.com NONSGML v1.0//EN
CALSCALE:GREGORIAN
METHOD:PUBLISH
BEGIN:VEVENT
UID:69ec228652054
DTSTAMP:20260425T021014Z
DTSTART:20260327T193000Z
DTEND:20260327T235000Z
LOCATION:
SUMMARY:Evensong mit dem Vokalensemble WestCanto
DESCRIPTION:Dritte Evensong-Reihe in der Fastenzeit.Seit Jahrhunderten glie
 dert das Stundengebet den Tagesablauf der Kirche.Der Evensong ist eine beso
 ndere Form dieses Abendgebets. In der anglikanischen Kirche vereint er die 
 Elemente der Vesper und Komplet zu einem meditativen Gottesdienst\,  der de
 n Tag mit Gebet und Musik beschließt. Dabei wechseln sich Gemeindegesang\,
   einfache Mehrstimmigkeit[..]\nhttps://in-gl.de/events/evensong-mit-dem-vo
 kalensemble-westcanto/
URL:https://in-gl.de/events/evensong-mit-dem-vokalensemble-westcanto/
END:VEVENT
END:VCALENDAR