BEGIN:VCALENDAR
VERSION:2.0
PRODID:-//eventon.com NONSGML v1.0//EN
CALSCALE:GREGORIAN
METHOD:PUBLISH
BEGIN:VEVENT
UID:69e522539ca19
DTSTAMP:20260419T184331Z
DTSTART:20260407T110000Z
DTEND:20260407T120000Z
LOCATION:
SUMMARY:Ferienaktion: Spezialführung Spielzeug aus Papier
DESCRIPTION:Vom Ersatzmaterial zu kunstvoll gestalteten Papiermasken bis zu
  detailreichen Puppenmöbeln\,  Spielkarten und industriell gefertigten Pap
 iermodellen – Papierspielzeug hat nicht nur eine lange Tradition\,  sonde
 rn spiegelt auch die Konsumgeschichte eindrucksvoll wider. Die Sonderführu
 ng zeigt die Geschichte der Papierfertigung und wie Papier über die Jahrhu
 nderte hinweg als kostengünstiges Material für zum Beispiel[..]\nhttps://
 in-gl.de/events/kinderfuehrung-kindheit-in-der-alten-dombach-um-1850-23/
URL:https://in-gl.de/events/kinderfuehrung-kindheit-in-der-alten-dombach-um-1850-23/
END:VEVENT
END:VCALENDAR