BEGIN:VCALENDAR
VERSION:2.0
PRODID:-//eventon.com NONSGML v1.0//EN
CALSCALE:GREGORIAN
METHOD:PUBLISH
BEGIN:VEVENT
UID:69e62c2e61a9b
DTSTAMP:20260420T133750Z
DTSTART:20260417T190000Z
DTEND:20260417T211500Z
LOCATION:
SUMMARY:Vortrag: Bergbau als Grundlage der Bergisch Gladbacher Eisen- und Maschinenbauindustrie
DESCRIPTION:Jeden dritten Freitag im Monat findet in Zusammenarbeit mit dem
  Bergischen Geschichtsverein Rhein-Berg e. V.\,  ein Vortrag zu einem heima
 tkundlichen\,  historischen oder kulturhistorisch relevanten Thema statt.Do
 zent: Dr. Alexander KierdorfKostenfrei. Eine Anmeldung ist nicht erforderli
 ch.\nhttps://in-gl.de/events/vortrag-bergbau-als-grundlage-der-bergisch-gla
 dbacher-eisen-und-maschinenbauindustrie/
URL:https://in-gl.de/events/vortrag-bergbau-als-grundlage-der-bergisch-gladbacher-eisen-und-maschinenbauindustrie/
END:VEVENT
END:VCALENDAR