BEGIN:VCALENDAR
VERSION:2.0
PRODID:-//eventon.com NONSGML v1.0//EN
CALSCALE:GREGORIAN
METHOD:PUBLISH
BEGIN:VEVENT
UID:69e52ea8dff7f
DTSTAMP:20260419T193608Z
DTSTART:20260423T180000Z
DTEND:20260423T200000Z
LOCATION:
SUMMARY:Informationsveranstaltung: Wohnen in Gemeinschaft
DESCRIPTION:Wie kann gemeinschaftliches Wohnen gelingen? Welche Chancen bie
 tet es für unterschiedliche Lebensphasen? Mit diesen Fragen beschäftigt s
 ich diese kostenfreie Informationsveranstaltung im Kreishaus Heidkamp\,  Ra
 um F002. Unter dem Titel „Wohnen in Gemeinschaft“ gibt Monika Schneider
  von der Kölner Agentur für Wohnkonzepte praxisnahe Einblicke in verschie
 dene Wohnmodelle und zeigt auf\,  wie ein[..]\nhttps://in-gl.de/events/3681
 40/
URL:https://in-gl.de/events/368140/
END:VEVENT
END:VCALENDAR