BEGIN:VCALENDAR
VERSION:2.0
PRODID:-//eventon.com NONSGML v1.0//EN
CALSCALE:GREGORIAN
METHOD:PUBLISH
BEGIN:VEVENT
UID:69e52cae58055
DTSTAMP:20260419T192742Z
DTSTART:20260512T180000Z
DTEND:20260512T235000Z
LOCATION:
SUMMARY:Lesung: Landarzt mit Humor und Seele
DESCRIPTION:„Herr Doktor\,  ich bin’s schon wieder“ oder „Herr Dokt
 or\,  heute habe ich mal wieder alles“: In seinen Büchern erzählt Dr. H
 ermann Sauer von seinen Erlebnissen als Landarzt im oberhessischen Vogelsbe
 rgkreis - mit Humor\,  Lebensklugheit und Einfühlungsvermögen. Was hat ei
 n Partnerschaftsverein mit medizinischen Themen zu tun? Ganz einfach: Herma
 nn Sauer war[..]\nhttps://in-gl.de/events/lesung-landarzt-mit-humor-und-see
 le/
URL:https://in-gl.de/events/lesung-landarzt-mit-humor-und-seele/
END:VEVENT
END:VCALENDAR