BEGIN:VCALENDAR
VERSION:2.0
PRODID:-//eventon.com NONSGML v1.0//EN
CALSCALE:GREGORIAN
METHOD:PUBLISH
BEGIN:VEVENT
UID:69ea48d3bc554
DTSTAMP:20260423T162907Z
DTSTART:20260428T193000Z
DTEND:20260428T235000Z
LOCATION:
SUMMARY:Krimilesung: Joachim F. Kuck stellt „Mörderney – Das Grab im Sand“ vor
DESCRIPTION:Die Buchhandlung Funk lädt zu einer besonderen Lesung ein: Joa
 chim F. Kuck präsentiert seinen neuen Kriminalroman „Mörderney – Das 
 Grab im Sand“. Die Veranstaltung findet erstmals in Kooperation mit der B
 ensberger Bank statt und wird in deren Räumlichkeiten ausgerichtet. Der Ei
 ntritt beträgt 10 Euro\,  für Mitglieder der Bensberger Bank eG[..]\nhttp
 s://in-gl.de/events/krimilesung-joachim-f-kuck-stellt-moerderney-das-grab-i
 m-sand-vor/
URL:https://in-gl.de/events/krimilesung-joachim-f-kuck-stellt-moerderney-das-grab-im-sand-vor/
END:VEVENT
END:VCALENDAR