BEGIN:VCALENDAR
VERSION:2.0
PRODID:-//eventon.com NONSGML v1.0//EN
CALSCALE:GREGORIAN
METHOD:PUBLISH
BEGIN:VEVENT
UID:69e89b08d0316
DTSTAMP:20260422T095520Z
DTSTART:20260509T190000Z
DTEND:20260509T235000Z
LOCATION:
SUMMARY:Orgelwandelkonzert
DESCRIPTION:Von der Ev. Kirche zum Heilsbrunnen zur Kath. Kirche Hl. Drei K
 önige.Werke von Johann Sebastian Bach\,  Antonin Dvořák\,  Sigfrid Karg-
 Elert und Charles-Marie Widor.Beide Orgeln\,  die beim \, \, Orgelwandelkon
 zert“ zu hören sind\,  haben in diesem Jahr ein Jubiläum: die Schulte-O
 rgel in der Ev. Kirche zum Heilsbrunnen wird 30 Jahre alt und die[..]\nhttp
 s://in-gl.de/events/orgelwandelkonzert-2/
URL:https://in-gl.de/events/orgelwandelkonzert-2/
END:VEVENT
END:VCALENDAR