BEGIN:VCALENDAR
VERSION:2.0
PRODID:-//eventon.com NONSGML v1.0//EN
CALSCALE:GREGORIAN
METHOD:PUBLISH
BEGIN:VEVENT
UID:69ea49021beb3
DTSTAMP:20260423T162954Z
DTSTART:20260418T150000Z
DTEND:20260418T201400Z
LOCATION:
SUMMARY:Die kleine Maus und ihr großer Wunsch
DESCRIPTION:Ein Kindertheaterstück nach einem traditionellen Märchen aus 
 Burma (Myanmar) präsentiert dasTheater im Puppenpavillon in Bensberg Kaule
 \,  Gelände der Johannes-Gutenberg-Realschule: "Die kleine Maus und ihr gr
 oßer Wunsch". Es geht darin um ein Mäusemädchen namens Mia\,  das sich b
 is über beide Ohren in den Mäusejungen Fredi verliebt hat. Den möchte si
 e eines[..]\nhttps://in-gl.de/events/die-kleine-maus-und-ihr-grosser-wunsch
 /
URL:https://in-gl.de/events/die-kleine-maus-und-ihr-grosser-wunsch/
END:VEVENT
END:VCALENDAR