BEGIN:VCALENDAR
VERSION:2.0
PRODID:-//eventon.com NONSGML v1.0//EN
CALSCALE:GREGORIAN
METHOD:PUBLISH
BEGIN:VEVENT
UID:69e63d7332fea
DTSTAMP:20260420T145131Z
DTSTART:20260827T190000Z
DTEND:20260827T235000Z
LOCATION:
SUMMARY:A-Capella-Konzert mit "5 grad"
DESCRIPTION:Iim Rahmen des Kultursommers Bergisch Gladbach.Das fünf-stimmi
 ge Vocal-Ensemble aus Refrath singt ein facettenreiches\,  mitreißendesPro
 gramm aus Pop\,  Jazz und Chanson\,  in das es ihr Publikum Herz über Kopf
  mit hineinzieht.Singen macht offensichtlich Freude!Die Teilnahme ist koste
 nfrei.Anmeldungen unter kulturbuero@stadt-gl.dehttps://www.puetz-roth.de/ve
 ranstaltung/singen-muss-spass-machen-a-capella-konzert/\nhttps://in-gl.de/e
 vents/a-capella-konzert-mit-5-grad/
URL:https://in-gl.de/events/a-capella-konzert-mit-5-grad/
END:VEVENT
END:VCALENDAR