BEGIN:VCALENDAR
VERSION:2.0
PRODID:-//eventon.com NONSGML v1.0//EN
CALSCALE:GREGORIAN
METHOD:PUBLISH
BEGIN:VEVENT
UID:69e8cd61641d3
DTSTAMP:20260422T133009Z
DTSTART:20260906T110000Z
DTEND:20260906T180000Z
LOCATION:
SUMMARY:Tag der offenen Tür und 5. Strundetal-Fest
DESCRIPTION:Zwischen Pütz-Roth und Quelle der Strunde.An diesem Tag ist un
 ser Haus geöffnet und wir überraschen Sie mit verschiedenenspannenden Ang
 eboten\,  Konzerten\,  Ausstellungen und Aktivitäten für Groß & Klein. E
 ntlang des Strundetals gibt es auch bei diesem fünften Strundetal-Fest wie
 der viel Interessantes zu erleben. Ansässige\,  Einrichtungen und Vereine 
 werden sich beteiligen und[..]\nhttps://in-gl.de/events/tag-der-offenen-tue
 r-und-5-strundetal-fest/
URL:https://in-gl.de/events/tag-der-offenen-tuer-und-5-strundetal-fest/
END:VEVENT
END:VCALENDAR